BEGIN:VCALENDAR
VERSION:2.0
PRODID:-//Portal de Comercio - ECPv6.11.2.1//NONSGML v1.0//EN
CALSCALE:GREGORIAN
METHOD:PUBLISH
X-WR-CALNAME:Portal de Comercio
X-ORIGINAL-URL:https://comercio.camarasandalucia.com
X-WR-CALDESC:Eventos para Portal de Comercio
REFRESH-INTERVAL;VALUE=DURATION:PT1H
X-Robots-Tag:noindex
X-PUBLISHED-TTL:PT1H
BEGIN:VTIMEZONE
TZID:Europe/Madrid
BEGIN:DAYLIGHT
TZOFFSETFROM:+0100
TZOFFSETTO:+0200
TZNAME:CEST
DTSTART:20220327T010000
END:DAYLIGHT
BEGIN:STANDARD
TZOFFSETFROM:+0200
TZOFFSETTO:+0100
TZNAME:CET
DTSTART:20221030T010000
END:STANDARD
END:VTIMEZONE
BEGIN:VEVENT
DTSTART;TZID=Europe/Madrid:20220517T100000
DTEND;TZID=Europe/Madrid:20220517T113000
DTSTAMP:20260425T032736
CREATED:20220506T091525Z
LAST-MODIFIED:20221109T120755Z
UID:9689-1652781600-1652787000@comercio.camarasandalucia.com
SUMMARY:Taller online:"La mejor estrategia digital para tu comercio"
DESCRIPTION:31 de octubre de 13:00 - 15:00 horas \nLugar de encuentro:  \nCalle de las Tiendas\, 1\, 04003 Almería \n\n\n			\n		\n			\n			Inscripciones
URL:https://comercio.camarasandalucia.com/evento/la-mejor-estrategia-digital-para-tu-negocio
CATEGORIES:Convocatoria 2022
ATTACH;FMTTYPE=image/png:https://comercio.camarasandalucia.com/wp-content/uploads/2022/05/20220517-tallerv3.png
END:VEVENT
BEGIN:VEVENT
DTSTART;TZID=Europe/Madrid:20220519T100000
DTEND;TZID=Europe/Madrid:20220519T113000
DTSTAMP:20260425T032737
CREATED:20220509T090142Z
LAST-MODIFIED:20221109T120706Z
UID:9717-1652954400-1652959800@comercio.camarasandalucia.com
SUMMARY:Taller online:"¿Eliges la huella que dejas en tus clientes?"
DESCRIPTION:31 de octubre de 13:00 - 15:00 horas \nLugar de encuentro:  \nCalle de las Tiendas\, 1\, 04003 Almería \n\n\n			\n		\n			\n			Inscripciones
URL:https://comercio.camarasandalucia.com/evento/taller-eliges-la-huella-que-dejas-en-tus-clientes
CATEGORIES:Convocatoria 2022
ATTACH;FMTTYPE=image/png:https://comercio.camarasandalucia.com/wp-content/uploads/2022/05/20220519-taller.png
END:VEVENT
BEGIN:VEVENT
DTSTART;TZID=Europe/Madrid:20220524T100000
DTEND;TZID=Europe/Madrid:20220524T113000
DTSTAMP:20260425T032737
CREATED:20220509T104800Z
LAST-MODIFIED:20221109T120847Z
UID:9726-1653386400-1653391800@comercio.camarasandalucia.com
SUMMARY:Taller online:"Vende en piloto automático gracias a la automatización"
DESCRIPTION:31 de octubre de 13:00 - 15:00 horas \nLugar de encuentro:  \nCalle de las Tiendas\, 1\, 04003 Almería \n\n\n			\n		\n			\n			Inscripciones
URL:https://comercio.camarasandalucia.com/evento/taller-vende-en-piloto-automatico-gracias-a-la-automatizacion
CATEGORIES:Convocatoria 2022
ATTACH;FMTTYPE=image/png:https://comercio.camarasandalucia.com/wp-content/uploads/2022/05/20220524-tallerv2.png
END:VEVENT
BEGIN:VEVENT
DTSTART;TZID=Europe/Madrid:20220526T100000
DTEND;TZID=Europe/Madrid:20220526T113000
DTSTAMP:20260425T032737
CREATED:20220516T075819Z
LAST-MODIFIED:20221109T120946Z
UID:9826-1653559200-1653564600@comercio.camarasandalucia.com
SUMMARY:Taller online: "Instagram y Facebook 2022. Novedades\, tendencias y casos de éxito para el comercio"
DESCRIPTION:31 de octubre de 13:00 - 15:00 horas \nLugar de encuentro:  \nCalle de las Tiendas\, 1\, 04003 Almería \n\n\n			\n		\n			\n			Inscripciones
URL:https://comercio.camarasandalucia.com/evento/taller-online-instagram-y-facebook-2022-novedades-tendencias-y-casos-de-exito-para-el-comercio
CATEGORIES:Convocatoria 2022
ATTACH;FMTTYPE=image/png:https://comercio.camarasandalucia.com/wp-content/uploads/2022/05/20220526-taller.png
END:VEVENT
BEGIN:VEVENT
DTSTART;TZID=Europe/Madrid:20220531T100000
DTEND;TZID=Europe/Madrid:20220531T113000
DTSTAMP:20260425T032737
CREATED:20220510T082544Z
LAST-MODIFIED:20221109T120434Z
UID:9770-1653991200-1653996600@comercio.camarasandalucia.com
SUMMARY:Taller online: ”Consigue clientes a través de Live Shopping”
DESCRIPTION:31 de octubre de 13:00 - 15:00 horas \nLugar de encuentro:  \nCalle de las Tiendas\, 1\, 04003 Almería \n\n\n			\n		\n			\n			Inscripciones
URL:https://comercio.camarasandalucia.com/evento/taller-online-consigue-clientes-a-traves-de-live-shopping
CATEGORIES:Convocatoria 2022
ATTACH;FMTTYPE=image/png:https://comercio.camarasandalucia.com/wp-content/uploads/2022/05/20220531-taller.png
END:VEVENT
END:VCALENDAR