BEGIN:VCALENDAR
VERSION:2.0
PRODID:-//Portal de Comercio - ECPv6.11.2.1//NONSGML v1.0//EN
CALSCALE:GREGORIAN
METHOD:PUBLISH
X-ORIGINAL-URL:https://comercio.camarasandalucia.com
X-WR-CALDESC:Eventos para Portal de Comercio
REFRESH-INTERVAL;VALUE=DURATION:PT1H
X-Robots-Tag:noindex
X-PUBLISHED-TTL:PT1H
BEGIN:VTIMEZONE
TZID:Europe/Madrid
BEGIN:DAYLIGHT
TZOFFSETFROM:+0100
TZOFFSETTO:+0200
TZNAME:CEST
DTSTART:20200329T010000
END:DAYLIGHT
BEGIN:STANDARD
TZOFFSETFROM:+0200
TZOFFSETTO:+0100
TZNAME:CET
DTSTART:20201025T010000
END:STANDARD
END:VTIMEZONE
BEGIN:VEVENT
DTSTART;TZID=Europe/Madrid:20201104T100000
DTEND;TZID=Europe/Madrid:20201104T113000
DTSTAMP:20260425T172220
CREATED:20201027T122301Z
LAST-MODIFIED:20201125T081903Z
UID:8122-1604484000-1604489400@comercio.camarasandalucia.com
SUMMARY:Atención al cliente para comercios minoristas con 3 ejemplos prácticos
DESCRIPTION:31 de octubre de 13:00 - 15:00 horas \nLugar de encuentro:  \nCalle de las Tiendas\, 1\, 04003 Almería \n\n\n			\n		\n			\n			Inscripciones
URL:https://comercio.camarasandalucia.com/evento/atencion-al-cliente-para-comercios-minoristas-con-3-ejemplos-practicos
CATEGORIES:Talleres online
ATTACH;FMTTYPE=image/jpeg:https://comercio.camarasandalucia.com/wp-content/uploads/2020/10/CARTEL-01-atencion-cliente-1.jpg
END:VEVENT
BEGIN:VEVENT
DTSTART;TZID=Europe/Madrid:20201105T100000
DTEND;TZID=Europe/Madrid:20201105T113000
DTSTAMP:20260425T172220
CREATED:20201029T095646Z
LAST-MODIFIED:20201125T081630Z
UID:8177-1604570400-1604575800@comercio.camarasandalucia.com
SUMMARY:Diseño gráfico para comercios minoristas con 3 ejemplos prácticos
DESCRIPTION:31 de octubre de 13:00 - 15:00 horas \nLugar de encuentro:  \nCalle de las Tiendas\, 1\, 04003 Almería \n\n\n			\n		\n			\n			Inscripciones
URL:https://comercio.camarasandalucia.com/evento/diseno-grafico-para-comercios-minoristas-con-3-ejemplos-practicos
CATEGORIES:Talleres online
ATTACH;FMTTYPE=image/jpeg:https://comercio.camarasandalucia.com/wp-content/uploads/2020/10/CARTEL-02-diseno-grafico.jpg
END:VEVENT
BEGIN:VEVENT
DTSTART;TZID=Europe/Madrid:20201109T100000
DTEND;TZID=Europe/Madrid:20201109T113000
DTSTAMP:20260425T172220
CREATED:20201030T092244Z
LAST-MODIFIED:20201125T081522Z
UID:8190-1604916000-1604921400@comercio.camarasandalucia.com
SUMMARY:Experiencia de compra para comercios minoristas con 3 ejemplos prácticos.
DESCRIPTION:31 de octubre de 13:00 - 15:00 horas \nLugar de encuentro:  \nCalle de las Tiendas\, 1\, 04003 Almería \n\n\n			\n		\n			\n			Inscripciones
URL:https://comercio.camarasandalucia.com/evento/experiencia-de-compra-para-comercios-minoristas-con-3-ejemplos-practicos
CATEGORIES:Talleres online
ATTACH;FMTTYPE=image/jpeg:https://comercio.camarasandalucia.com/wp-content/uploads/2020/10/CARTEL-03-experiencia-compra.jpg
END:VEVENT
BEGIN:VEVENT
DTSTART;TZID=Europe/Madrid:20201112T100000
DTEND;TZID=Europe/Madrid:20201112T113000
DTSTAMP:20260425T172220
CREATED:20201030T093235Z
LAST-MODIFIED:20201125T083917Z
UID:8194-1605175200-1605180600@comercio.camarasandalucia.com
SUMMARY:Digitalización para comercios minoristas con 3 ejemplos prácticos.
DESCRIPTION:31 de octubre de 13:00 - 15:00 horas \nLugar de encuentro:  \nCalle de las Tiendas\, 1\, 04003 Almería \n\n\n			\n		\n			\n			Inscripciones
URL:https://comercio.camarasandalucia.com/evento/digitalizacion-para-comercios-minoristas-con-3-ejemplos-practicos
CATEGORIES:Talleres online
ATTACH;FMTTYPE=image/jpeg:https://comercio.camarasandalucia.com/wp-content/uploads/2020/10/CARTEL-04-digitalizacion.jpg
END:VEVENT
BEGIN:VEVENT
DTSTART;TZID=Europe/Madrid:20201113T100000
DTEND;TZID=Europe/Madrid:20201113T113000
DTSTAMP:20260425T172220
CREATED:20201030T093917Z
LAST-MODIFIED:20201125T081241Z
UID:8202-1605261600-1605267000@comercio.camarasandalucia.com
SUMMARY:Presencia digital para comercios minoristas con 3 ejemplos prácticos.
DESCRIPTION:31 de octubre de 13:00 - 15:00 horas \nLugar de encuentro:  \nCalle de las Tiendas\, 1\, 04003 Almería \n\n\n			\n		\n			\n			Inscripciones
URL:https://comercio.camarasandalucia.com/evento/presencia-digital-para-comercios-minoristas-con-3-ejemplos-practicos
CATEGORIES:Talleres online
ATTACH;FMTTYPE=image/jpeg:https://comercio.camarasandalucia.com/wp-content/uploads/2020/10/CARTEL-05-presencia-digital.jpg
END:VEVENT
BEGIN:VEVENT
DTSTART;TZID=Europe/Madrid:20201116T100000
DTEND;TZID=Europe/Madrid:20201116T113000
DTSTAMP:20260425T172220
CREATED:20201030T094352Z
LAST-MODIFIED:20201125T082116Z
UID:8209-1605520800-1605526200@comercio.camarasandalucia.com
SUMMARY:Venta online para comercios minoristas con 3 ejemplos prácticos.
DESCRIPTION:31 de octubre de 13:00 - 15:00 horas \nLugar de encuentro:  \nCalle de las Tiendas\, 1\, 04003 Almería \n\n\n			\n		\n			\n			Inscripciones
URL:https://comercio.camarasandalucia.com/evento/venta-online-para-comercios-minoristas-con-3-ejemplos-practicos
CATEGORIES:Talleres online
ATTACH;FMTTYPE=image/jpeg:https://comercio.camarasandalucia.com/wp-content/uploads/2020/10/CARTEL-06-venta-online.jpg
END:VEVENT
BEGIN:VEVENT
DTSTART;TZID=Europe/Madrid:20201118T100000
DTEND;TZID=Europe/Madrid:20201118T113000
DTSTAMP:20260425T172220
CREATED:20201030T094851Z
LAST-MODIFIED:20201125T082528Z
UID:8218-1605693600-1605699000@comercio.camarasandalucia.com
SUMMARY:Nuevos clientes digitales para comercios minoristas con 3 ejemplos prácticos.
DESCRIPTION:31 de octubre de 13:00 - 15:00 horas \nLugar de encuentro:  \nCalle de las Tiendas\, 1\, 04003 Almería \n\n\n			\n		\n			\n			Inscripciones
URL:https://comercio.camarasandalucia.com/evento/nuevos-clientes-digitales-para-comercios-minoristas-con-3-ejemplos-practicos
CATEGORIES:Talleres online
ATTACH;FMTTYPE=image/jpeg:https://comercio.camarasandalucia.com/wp-content/uploads/2020/10/CARTEL-07-clientes-digitales.jpg
END:VEVENT
BEGIN:VEVENT
DTSTART;TZID=Europe/Madrid:20201120T100000
DTEND;TZID=Europe/Madrid:20201120T133000
DTSTAMP:20260425T172220
CREATED:20201030T095600Z
LAST-MODIFIED:20201125T083219Z
UID:8222-1605866400-1605879000@comercio.camarasandalucia.com
SUMMARY:Posicionamiento en Google para comercios minoristas con 3 ejemplos prácticos.
DESCRIPTION:31 de octubre de 13:00 - 15:00 horas \nLugar de encuentro:  \nCalle de las Tiendas\, 1\, 04003 Almería \n\n\n			\n		\n			\n			Inscripciones
URL:https://comercio.camarasandalucia.com/evento/posicionamiento-en-google-para-comercios-minoristas-con-3-ejemplos-practicos
CATEGORIES:Talleres online
ATTACH;FMTTYPE=image/jpeg:https://comercio.camarasandalucia.com/wp-content/uploads/2020/10/CARTEL-08-posicionamiento.jpg
END:VEVENT
BEGIN:VEVENT
DTSTART;TZID=Europe/Madrid:20201123T100000
DTEND;TZID=Europe/Madrid:20201123T113000
DTSTAMP:20260425T172220
CREATED:20201030T100145Z
LAST-MODIFIED:20201125T083511Z
UID:8229-1606125600-1606131000@comercio.camarasandalucia.com
SUMMARY:Email marketing para comercios minoristas con 3 ejemplos prácticos.
DESCRIPTION:31 de octubre de 13:00 - 15:00 horas \nLugar de encuentro:  \nCalle de las Tiendas\, 1\, 04003 Almería \n\n\n			\n		\n			\n			Inscripciones
URL:https://comercio.camarasandalucia.com/evento/email-marketing-para-comercios-minoristas-con-3-ejemplos-practicos
CATEGORIES:Talleres online
ATTACH;FMTTYPE=image/jpeg:https://comercio.camarasandalucia.com/wp-content/uploads/2020/10/CARTEL-09-email-marketing.jpg
END:VEVENT
BEGIN:VEVENT
DTSTART;TZID=Europe/Madrid:20201124T100000
DTEND;TZID=Europe/Madrid:20201124T113000
DTSTAMP:20260425T172220
CREATED:20201030T100601Z
LAST-MODIFIED:20201125T083722Z
UID:8235-1606212000-1606217400@comercio.camarasandalucia.com
SUMMARY:Redes sociales para comercios minoristas con 3 ejemplos prácticos.
DESCRIPTION:31 de octubre de 13:00 - 15:00 horas \nLugar de encuentro:  \nCalle de las Tiendas\, 1\, 04003 Almería \n\n\n			\n		\n			\n			Inscripciones
URL:https://comercio.camarasandalucia.com/evento/redes-sociales-para-comercios-minoristas-con-3-ejemplos-practicos
CATEGORIES:Talleres online
ATTACH;FMTTYPE=image/jpeg:https://comercio.camarasandalucia.com/wp-content/uploads/2020/10/CARTEL-10-redes-sociales.jpg
END:VEVENT
END:VCALENDAR