BEGIN:VCALENDAR
VERSION:2.0
PRODID:-//Portal de Comercio - ECPv6.11.2.1//NONSGML v1.0//EN
CALSCALE:GREGORIAN
METHOD:PUBLISH
X-ORIGINAL-URL:https://comercio.camarasandalucia.com
X-WR-CALDESC:Eventos para Portal de Comercio
REFRESH-INTERVAL;VALUE=DURATION:PT1H
X-Robots-Tag:noindex
X-PUBLISHED-TTL:PT1H
BEGIN:VTIMEZONE
TZID:Europe/Madrid
BEGIN:DAYLIGHT
TZOFFSETFROM:+0100
TZOFFSETTO:+0200
TZNAME:CEST
DTSTART:20180325T010000
END:DAYLIGHT
BEGIN:STANDARD
TZOFFSETFROM:+0200
TZOFFSETTO:+0100
TZNAME:CET
DTSTART:20181028T010000
END:STANDARD
BEGIN:DAYLIGHT
TZOFFSETFROM:+0100
TZOFFSETTO:+0200
TZNAME:CEST
DTSTART:20190331T010000
END:DAYLIGHT
BEGIN:STANDARD
TZOFFSETFROM:+0200
TZOFFSETTO:+0100
TZNAME:CET
DTSTART:20191027T010000
END:STANDARD
END:VTIMEZONE
BEGIN:VEVENT
DTSTART;TZID=Europe/Madrid:20181025T100000
DTEND;TZID=Europe/Madrid:20181025T140000
DTSTAMP:20260419T181835
CREATED:20181008T112751Z
LAST-MODIFIED:20231009T141337Z
UID:5030-1540461600-1540476000@comercio.camarasandalucia.com
SUMMARY:VISUAL RETAIL TOUR\, Almería. Talleres prácticos de escaparatismo\, ¿Cómo atrapar clientes a través de tu escaparate?
DESCRIPTION:31 de octubre de 13:00 - 15:00 horas \nLugar de encuentro:  \nCalle de las Tiendas\, 1\, 04003 Almería \n\n\n			\n		\n			\n			Inscripciones
URL:https://comercio.camarasandalucia.com/evento/visual-retail-tour-almeria-talleres-practicos-de-escaparatismo-como-atrapar-clientes-a-traves-de-tu-escaparate
LOCATION:Paseo de Almería\, Paseo de Almería\, 1\, Almería\, Almería\, 04001\, España
CATEGORIES:Visual Retails,Vr Convocatoria 2018
ATTACH;FMTTYPE=image/jpeg:https://comercio.camarasandalucia.com/wp-content/uploads/2018/10/almeria_800v2.jpg
END:VEVENT
BEGIN:VEVENT
DTSTART;TZID=Europe/Madrid:20181025T160000
DTEND;TZID=Europe/Madrid:20181025T200000
DTSTAMP:20260419T181836
CREATED:20181015T090557Z
LAST-MODIFIED:20231009T141328Z
UID:5115-1540483200-1540497600@comercio.camarasandalucia.com
SUMMARY:VISUAL RETAIL TOUR\, Motril. Talleres prácticos de escaparatismo\, ¿Cómo atrapar clientes a través de tu escaparate?
DESCRIPTION:31 de octubre de 13:00 - 15:00 horas \nLugar de encuentro:  \nCalle de las Tiendas\, 1\, 04003 Almería \n\n\n			\n		\n			\n			Inscripciones
URL:https://comercio.camarasandalucia.com/evento/visual-retail-tour-motril-talleres-practicos-de-escaparatismo-como-atrapar-clientes-a-traves-de-tu-escaparate-2
LOCATION:Punto de encuentro Visual Motril\, Calle Catalanes\, 4\, Motril\, Granada\, 18600\, España
CATEGORIES:Visual Retails,Vr Convocatoria 2018
ATTACH;FMTTYPE=image/jpeg:https://comercio.camarasandalucia.com/wp-content/uploads/2018/10/6Motril.jpg
END:VEVENT
BEGIN:VEVENT
DTSTART;TZID=Europe/Madrid:20181026T100000
DTEND;TZID=Europe/Madrid:20181026T200000
DTSTAMP:20260419T181836
CREATED:20181015T100102Z
LAST-MODIFIED:20231009T141317Z
UID:5128-1540548000-1540584000@comercio.camarasandalucia.com
SUMMARY:VISUAL RETAIL TOUR\, Málaga. Talleres prácticos de escaparatismo\, ¿Cómo atrapar clientes a través de tu escaparate?
DESCRIPTION:31 de octubre de 13:00 - 15:00 horas \nLugar de encuentro:  \nCalle de las Tiendas\, 1\, 04003 Almería \n\n\n			\n		\n			\n			Inscripciones
URL:https://comercio.camarasandalucia.com/evento/visual-retail-tour-malaga-talleres-practicos-de-escaparatismo-como-atrapar-clientes-a-traves-de-tu-escaparate-2
LOCATION:Punto de encuentro Visual Málaga\, Plaza de la Constitución\, Málaga\, Málaga\, 29005\, España
CATEGORIES:Visual Retails,Vr Convocatoria 2018
ATTACH;FMTTYPE=image/jpeg:https://comercio.camarasandalucia.com/wp-content/uploads/2018/10/7Málaga.jpg
END:VEVENT
BEGIN:VEVENT
DTSTART;TZID=Europe/Madrid:20181029T160000
DTEND;TZID=Europe/Madrid:20181029T200000
DTSTAMP:20260419T181836
CREATED:20181015T101335Z
LAST-MODIFIED:20231009T141309Z
UID:5145-1540828800-1540843200@comercio.camarasandalucia.com
SUMMARY:VISUAL RETAIL TOUR\, Cádiz. Talleres prácticos de escaparatismo\, ¿Cómo atrapar clientes a través de tu escaparate?
DESCRIPTION:31 de octubre de 13:00 - 15:00 horas \nLugar de encuentro:  \nCalle de las Tiendas\, 1\, 04003 Almería \n\n\n			\n		\n			\n			Inscripciones
URL:https://comercio.camarasandalucia.com/evento/visual-retail-tour-cadiz-talleres-practicos-de-escaparatismo-como-atrapar-clientes-a-traves-de-tu-escaparate-2
LOCATION:Cámara de Comercio de Cádiz\, Calle Antonio López\, 4\, Cádiz\, Cádiz\, 11004\, España
CATEGORIES:Visual Retails,Vr Convocatoria 2018
ATTACH;FMTTYPE=image/jpeg:https://comercio.camarasandalucia.com/wp-content/uploads/2018/10/8Cádiz.jpg
END:VEVENT
BEGIN:VEVENT
DTSTART;TZID=Europe/Madrid:20181029T160000
DTEND;TZID=Europe/Madrid:20181031T210000
DTSTAMP:20260419T181836
CREATED:20180920T101436Z
LAST-MODIFIED:20181005T105730Z
UID:4713-1540828800-1541019600@comercio.camarasandalucia.com
SUMMARY:Córdoba\, Ciclo Formativo Programa de Apoyo al Comercio Ambulante en Andalucía
DESCRIPTION:31 de octubre de 13:00 - 15:00 horas \nLugar de encuentro:  \nCalle de las Tiendas\, 1\, 04003 Almería \n\n\n			\n		\n			\n			Inscripciones
URL:https://comercio.camarasandalucia.com/evento/cordoba-ciclo-formativo-programa-de-apoyo-al-comercio-ambulante-en-andalucia
LOCATION:Cámara de Comercio de Córdoba\, Calle Pérez de Castro\, 1\, Córdoba\, Córdoba\, 14003\, España
CATEGORIES:Formación presencial Comercio Ambulante
ATTACH;FMTTYPE=image/jpeg:https://comercio.camarasandalucia.com/wp-content/uploads/2018/09/anuncio_Accion_Formativa_FACEBOOK_COv2.jpg
END:VEVENT
BEGIN:VEVENT
DTSTART;TZID=Europe/Madrid:20181105T160000
DTEND;TZID=Europe/Madrid:20181107T210000
DTSTAMP:20260419T181836
CREATED:20181102T132643Z
LAST-MODIFIED:20181102T133110Z
UID:5486-1541433600-1541624400@comercio.camarasandalucia.com
SUMMARY:Ayamonte\, Ciclo Formativo Programa de Apoyo al Comercio Ambulante en Andalucía
DESCRIPTION:31 de octubre de 13:00 - 15:00 horas \nLugar de encuentro:  \nCalle de las Tiendas\, 1\, 04003 Almería \n\n\n			\n		\n			\n			Inscripciones
URL:https://comercio.camarasandalucia.com/evento/ayamonte-ciclo-formativo-programa-de-apoyo-al-comercio-ambulante-en-andalucia
LOCATION:Cámara de Ayamonte\, Calle Muelle de Portugal\, 35\, Ayamonte\, Huelva\, 21400\, España
CATEGORIES:Formación presencial Comercio Ambulante
ATTACH;FMTTYPE=image/jpeg:https://comercio.camarasandalucia.com/wp-content/uploads/2018/09/anuncio_Accion_Formativa_FACEBOOK_AY_v2.jpg
END:VEVENT
BEGIN:VEVENT
DTSTART;TZID=Europe/Madrid:20181105T170000
DTEND;TZID=Europe/Madrid:20181105T180000
DTSTAMP:20260419T181836
CREATED:20181026T110222Z
LAST-MODIFIED:20191113T080255Z
UID:5362-1541437200-1541440800@comercio.camarasandalucia.com
SUMMARY:Taller Online\, Aprende a obtener la mayor  rentabilidad de la venta ambulante  a través del Visual Merchandising
DESCRIPTION:31 de octubre de 13:00 - 15:00 horas \nLugar de encuentro:  \nCalle de las Tiendas\, 1\, 04003 Almería \n\n\n			\n		\n			\n			Inscripciones
URL:https://comercio.camarasandalucia.com/evento/taller-online-visual-merchandising
CATEGORIES:Talleres online Comercio Ambulante
ATTACH;FMTTYPE=image/jpeg:https://comercio.camarasandalucia.com/wp-content/uploads/2018/10/20181105.jpg
END:VEVENT
BEGIN:VEVENT
DTSTART;TZID=Europe/Madrid:20181107T170000
DTEND;TZID=Europe/Madrid:20181107T180000
DTSTAMP:20260419T181836
CREATED:20180320T104404Z
LAST-MODIFIED:20181112T091908Z
UID:4159-1541610000-1541613600@comercio.camarasandalucia.com
SUMMARY:Taller Online\, Técnicas de venta y canales  de aprovisionamiento
DESCRIPTION:31 de octubre de 13:00 - 15:00 horas \nLugar de encuentro:  \nCalle de las Tiendas\, 1\, 04003 Almería \n\n\n			\n		\n			\n			Inscripciones
URL:https://comercio.camarasandalucia.com/evento/tecnicas-venta
CATEGORIES:Talleres online Comercio Ambulante
ATTACH;FMTTYPE=image/jpeg:https://comercio.camarasandalucia.com/wp-content/uploads/2018/03/20181107.jpg
END:VEVENT
BEGIN:VEVENT
DTSTART;TZID=Europe/Madrid:20181112T160000
DTEND;TZID=Europe/Madrid:20181114T200000
DTSTAMP:20260419T181836
CREATED:20181108T132005Z
LAST-MODIFIED:20181108T132005Z
UID:5578-1542038400-1542225600@comercio.camarasandalucia.com
SUMMARY:Lebrija\, Ciclo Formativo Programa de Apoyo al Comercio Ambulante en Andalucía
DESCRIPTION:31 de octubre de 13:00 - 15:00 horas \nLugar de encuentro:  \nCalle de las Tiendas\, 1\, 04003 Almería \n\n\n			\n		\n			\n			Inscripciones
URL:https://comercio.camarasandalucia.com/evento/lebrija-ciclo-formativo-programa-de-apoyo-al-comercio-ambulante-en-andalucia
LOCATION:Casa de la Juventud\, Plaza Rector Merina 1\, Lebrija\, Sevilla\, 41740\, España
CATEGORIES:Formación presencial Comercio Ambulante
ATTACH;FMTTYPE=image/jpeg:https://comercio.camarasandalucia.com/wp-content/uploads/2018/11/anuncio_JornadaTIC_FACEBOOK_LE_worpress.jpg
END:VEVENT
BEGIN:VEVENT
DTSTART;TZID=Europe/Madrid:20181113T100000
DTEND;TZID=Europe/Madrid:20181113T140000
DTSTAMP:20260419T181836
CREATED:20181105T132931Z
LAST-MODIFIED:20231009T141258Z
UID:5494-1542103200-1542117600@comercio.camarasandalucia.com
SUMMARY:VISUAL RETAIL TOUR\, Lebrija. Talleres prácticos de escaparatismo\, ¿Cómo atrapar clientes a través de tu escaparate?
DESCRIPTION:31 de octubre de 13:00 - 15:00 horas \nLugar de encuentro:  \nCalle de las Tiendas\, 1\, 04003 Almería \n\n\n			\n		\n			\n			Inscripciones
URL:https://comercio.camarasandalucia.com/evento/visual-retail-tour-lebrija-talleres-practicos-de-escaparatismo-como-atrapar-clientes-a-traves-de-tu-escaparate
LOCATION:Punto de encuentro Visual Lebrija\, Plaza  de España\, Lebrija\, Sevilla\, 41740\, España
CATEGORIES:Visual Retails,Vr Convocatoria 2018
ATTACH;FMTTYPE=image/jpeg:https://comercio.camarasandalucia.com/wp-content/uploads/2018/11/10Lebrija-e1541423871209.jpg
END:VEVENT
BEGIN:VEVENT
DTSTART;TZID=Europe/Madrid:20181113T160000
DTEND;TZID=Europe/Madrid:20181115T210000
DTSTAMP:20260419T181836
CREATED:20181109T101630Z
LAST-MODIFIED:20181109T101630Z
UID:5589-1542124800-1542315600@comercio.camarasandalucia.com
SUMMARY:Sevilla\, Ciclo Formativo Programa de Apoyo al Comercio Ambulante en Andalucía
DESCRIPTION:31 de octubre de 13:00 - 15:00 horas \nLugar de encuentro:  \nCalle de las Tiendas\, 1\, 04003 Almería \n\n\n			\n		\n			\n			Inscripciones
URL:https://comercio.camarasandalucia.com/evento/sevilla-ciclo-formativo-programa-de-apoyo-al-comercio-ambulante-en-andalucia
LOCATION:Sede de Emprendedores\, Calle Biología 12\, Sevilla\, Sevilla\, 41015\, España
CATEGORIES:Formación presencial Comercio Ambulante
ATTACH;FMTTYPE=image/jpeg:https://comercio.camarasandalucia.com/wp-content/uploads/2018/11/anuncio_Accion_Formativa_FACEBOOK_SE_worpress.jpg
END:VEVENT
BEGIN:VEVENT
DTSTART;TZID=Europe/Madrid:20181114T160000
DTEND;TZID=Europe/Madrid:20181114T200000
DTSTAMP:20260419T181836
CREATED:20181105T162704Z
LAST-MODIFIED:20231009T141237Z
UID:5503-1542211200-1542225600@comercio.camarasandalucia.com
SUMMARY:VISUAL RETAIL TOUR\, Sevilla. Talleres prácticos de escaparatismo\, ¿Cómo atrapar clientes a través de tu escaparate?
DESCRIPTION:31 de octubre de 13:00 - 15:00 horas \nLugar de encuentro:  \nCalle de las Tiendas\, 1\, 04003 Almería \n\n\n			\n		\n			\n			Inscripciones
URL:https://comercio.camarasandalucia.com/evento/visual-retail-tour-sevilla-talleres-practicos-de-escaparatismo-como-atrapar-clientes-a-traves-de-tu-escaparate-2
LOCATION:Punto de encuentro Visual Sevilla\, Calle Puente y Pellón\, 11\, Sevilla\, Sevilla\, 41004\, España
CATEGORIES:Visual Retails,Vr Convocatoria 2018
ATTACH;FMTTYPE=image/jpeg:https://comercio.camarasandalucia.com/wp-content/uploads/2018/11/11Sevilla-e1541435119568.jpg
END:VEVENT
BEGIN:VEVENT
DTSTART;TZID=Europe/Madrid:20181116T100000
DTEND;TZID=Europe/Madrid:20181116T140000
DTSTAMP:20260419T181836
CREATED:20181010T112911Z
LAST-MODIFIED:20231009T141227Z
UID:5052-1542362400-1542376800@comercio.camarasandalucia.com
SUMMARY:VISUAL RETAIL TOUR\, Córdoba. Talleres prácticos de escaparatismo\, ¿Cómo atrapar clientes a través de tu escaparate?
DESCRIPTION:31 de octubre de 13:00 - 15:00 horas \nLugar de encuentro:  \nCalle de las Tiendas\, 1\, 04003 Almería \n\n\n			\n		\n			\n			Inscripciones
URL:https://comercio.camarasandalucia.com/evento/visual-retail-tour-andujar-talleres-practicos-de-escaparatismo-como-atrapar-clientes-a-traves-de-tu-escaparate-3
LOCATION:Plaza de las Tendillas\, Plaza de las Tendillas\, s/n\, Córdoba\, Córdoba\, 14002\, España
CATEGORIES:Visual Retails,Vr Convocatoria 2018
ATTACH;FMTTYPE=image/jpeg:https://comercio.camarasandalucia.com/wp-content/uploads/2018/10/12Cordoba2aFecha-e1541676732187.jpg
END:VEVENT
BEGIN:VEVENT
DTSTART;TZID=Europe/Madrid:20181120T160000
DTEND;TZID=Europe/Madrid:20181122T210000
DTSTAMP:20260419T181836
CREATED:20181022T081601Z
LAST-MODIFIED:20181022T083157Z
UID:5235-1542729600-1542920400@comercio.camarasandalucia.com
SUMMARY:Málaga\, Ciclo Formativo Programa de Apoyo al Comercio Ambulante en Andalucía
DESCRIPTION:31 de octubre de 13:00 - 15:00 horas \nLugar de encuentro:  \nCalle de las Tiendas\, 1\, 04003 Almería \n\n\n			\n		\n			\n			Inscripciones
URL:https://comercio.camarasandalucia.com/evento/malaga-ciclo-formativo-programa-de-apoyo-al-comercio-ambulante-en-andalucia
LOCATION:Formacion presencial málaga\, Calle Dos Aceras\, 23-25\, Málaga\, Málaga\, 29012\, España
CATEGORIES:Formación presencial Comercio Ambulante
ATTACH;FMTTYPE=image/jpeg:https://comercio.camarasandalucia.com/wp-content/uploads/2018/10/anuncio_Accion_Formativa_WORPRESS_MA.jpg
END:VEVENT
BEGIN:VEVENT
DTSTART;TZID=Europe/Madrid:20181121T170000
DTEND;TZID=Europe/Madrid:20181121T170000
DTSTAMP:20260419T181836
CREATED:20181107T124250Z
LAST-MODIFIED:20181122T103517Z
UID:5540-1542819600-1542819600@comercio.camarasandalucia.com
SUMMARY:Taller Online\, Neuromarketing y estrategias de venta para el consumidor en la venta ambulante.
DESCRIPTION:31 de octubre de 13:00 - 15:00 horas \nLugar de encuentro:  \nCalle de las Tiendas\, 1\, 04003 Almería \n\n\n			\n		\n			\n			Inscripciones
URL:https://comercio.camarasandalucia.com/evento/neuromarketing-venta-ambulante
CATEGORIES:Talleres online Comercio Ambulante
ATTACH;FMTTYPE=image/jpeg:https://comercio.camarasandalucia.com/wp-content/uploads/2018/11/20181121.jpg
END:VEVENT
BEGIN:VEVENT
DTSTART;TZID=Europe/Madrid:20181126T170000
DTEND;TZID=Europe/Madrid:20181128T210000
DTSTAMP:20260419T181836
CREATED:20181003T102621Z
LAST-MODIFIED:20181003T102621Z
UID:4976-1543251600-1543438800@comercio.camarasandalucia.com
SUMMARY:Linares\, Ciclo Formativo Programa de Apoyo al Comercio Ambulante en Andalucía
DESCRIPTION:31 de octubre de 13:00 - 15:00 horas \nLugar de encuentro:  \nCalle de las Tiendas\, 1\, 04003 Almería \n\n\n			\n		\n			\n			Inscripciones
URL:https://comercio.camarasandalucia.com/evento/linares-ciclo-formativo-programa-de-apoyo-al-comercio-ambulante-en-andalucia
LOCATION:Cámara de Comercio de Linares\, Calle Sagunto\, 1\, Linares\, Jaén\, 23700\, España
CATEGORIES:Formación presencial Comercio Ambulante
ATTACH;FMTTYPE=image/jpeg:https://comercio.camarasandalucia.com/wp-content/uploads/2018/10/anuncio_Accion_Formativa_WORDPRESS_LI.jpg
END:VEVENT
BEGIN:VEVENT
DTSTART;TZID=Europe/Madrid:20181127T160000
DTEND;TZID=Europe/Madrid:20181129T210000
DTSTAMP:20260419T181836
CREATED:20180928T105142Z
LAST-MODIFIED:20180928T105142Z
UID:4895-1543334400-1543525200@comercio.camarasandalucia.com
SUMMARY:Andújar\, Ciclo Formativo Programa de Apoyo al Comercio Ambulante
DESCRIPTION:31 de octubre de 13:00 - 15:00 horas \nLugar de encuentro:  \nCalle de las Tiendas\, 1\, 04003 Almería \n\n\n			\n		\n			\n			Inscripciones
URL:https://comercio.camarasandalucia.com/evento/andujar-ciclo-formativo-programa-de-apoyo-al-comercio-ambulante
LOCATION:Cámara de Comercio de Andújar\, Calle Mariana Pineda\, 34\, Andújar\, Jaén\, 23740\, España
CATEGORIES:Formación presencial Comercio Ambulante
ATTACH;FMTTYPE=image/jpeg:https://comercio.camarasandalucia.com/wp-content/uploads/2018/09/anuncio_Accion_Formativa_FACEBOOK_AN-1.jpg
END:VEVENT
BEGIN:VEVENT
DTSTART;TZID=Europe/Madrid:20181128T170000
DTEND;TZID=Europe/Madrid:20181128T180000
DTSTAMP:20260419T181836
CREATED:20181116T082708Z
LAST-MODIFIED:20181129T100255Z
UID:5631-1543424400-1543428000@comercio.camarasandalucia.com
SUMMARY:Taller Online\, La nueva normativa de autónomos  y las ayudas y subvenciones al sector
DESCRIPTION:31 de octubre de 13:00 - 15:00 horas \nLugar de encuentro:  \nCalle de las Tiendas\, 1\, 04003 Almería \n\n\n			\n		\n			\n			Inscripciones
URL:https://comercio.camarasandalucia.com/evento/taller-online-la-nueva-normativa-de-autonomos-y-las-ayudas-y-subvenciones-al-sector
CATEGORIES:Talleres online Comercio Ambulante
ATTACH;FMTTYPE=image/jpeg:https://comercio.camarasandalucia.com/wp-content/uploads/2018/11/20181128.jpg
END:VEVENT
BEGIN:VEVENT
DTSTART;TZID=Europe/Madrid:20190614T100000
DTEND;TZID=Europe/Madrid:20190614T111500
DTSTAMP:20260419T181836
CREATED:20190529T074119Z
LAST-MODIFIED:20190711T091526Z
UID:6448-1560506400-1560510900@comercio.camarasandalucia.com
SUMMARY:Taller Online\, Tendencias 2019 en escaparatismo y técnicas Low Cost para destacar
DESCRIPTION:31 de octubre de 13:00 - 15:00 horas \nLugar de encuentro:  \nCalle de las Tiendas\, 1\, 04003 Almería \n\n\n			\n		\n			\n			Inscripciones
URL:https://comercio.camarasandalucia.com/evento/taller-online-tendencias-2019-en-escaparatismo-y-tecnicas-low-cost-para-destacar
CATEGORIES:Talleres online
ATTACH;FMTTYPE=image/jpeg:https://comercio.camarasandalucia.com/wp-content/uploads/2019/05/20190614_TendenciasLowCost.jpg
END:VEVENT
BEGIN:VEVENT
DTSTART;TZID=Europe/Madrid:20190619T100000
DTEND;TZID=Europe/Madrid:20190619T111500
DTSTAMP:20260419T181836
CREATED:20190527T101023Z
LAST-MODIFIED:20200330T064908Z
UID:6384-1560938400-1560942900@comercio.camarasandalucia.com
SUMMARY:Taller Online\, Vende en Instagram con Instagram Shopping: Cómo hacerlo de la forma más eficaz y segura.
DESCRIPTION:31 de octubre de 13:00 - 15:00 horas \nLugar de encuentro:  \nCalle de las Tiendas\, 1\, 04003 Almería \n\n\n			\n		\n			\n			Inscripciones
URL:https://comercio.camarasandalucia.com/evento/vende-en-instagram-con-instagram-shopping-claves-para-hacero-de-la-forma-correcta
CATEGORIES:Talleres online
ATTACH;FMTTYPE=image/jpeg:https://comercio.camarasandalucia.com/wp-content/uploads/2019/05/20190619_InstagramShoppingV2.jpg
END:VEVENT
BEGIN:VEVENT
DTSTART;TZID=Europe/Madrid:20190626T100000
DTEND;TZID=Europe/Madrid:20190626T113000
DTSTAMP:20260419T181836
CREATED:20190531T065423Z
LAST-MODIFIED:20190711T090433Z
UID:6485-1561543200-1561548600@comercio.camarasandalucia.com
SUMMARY:Taller Online\, Outsourcing en Marketing Digital: Tendencia en alza para el comercio minorista
DESCRIPTION:31 de octubre de 13:00 - 15:00 horas \nLugar de encuentro:  \nCalle de las Tiendas\, 1\, 04003 Almería \n\n\n			\n		\n			\n			Inscripciones
URL:https://comercio.camarasandalucia.com/evento/taller-online-outsourcing-en-marketing-digital-tendencia-en-alza-para-el-comercio-minorista
CATEGORIES:Talleres online
ATTACH;FMTTYPE=image/jpeg:https://comercio.camarasandalucia.com/wp-content/uploads/2019/05/2019-06-26-OutsourcingMarketingv2.jpg
END:VEVENT
BEGIN:VEVENT
DTSTART;TZID=Europe/Madrid:20190710T100000
DTEND;TZID=Europe/Madrid:20190710T111500
DTSTAMP:20260419T181836
CREATED:20190621T095741Z
LAST-MODIFIED:20190711T090251Z
UID:6634-1562752800-1562757300@comercio.camarasandalucia.com
SUMMARY:Taller Online\, Conseguir seguidores en Instagram. Conoce las claves.
DESCRIPTION:31 de octubre de 13:00 - 15:00 horas \nLugar de encuentro:  \nCalle de las Tiendas\, 1\, 04003 Almería \n\n\n			\n		\n			\n			Inscripciones
URL:https://comercio.camarasandalucia.com/evento/taller-online-conseguir-seguidores-en-instagram-conoce-las-claves
CATEGORIES:Talleres online
ATTACH;FMTTYPE=image/jpeg:https://comercio.camarasandalucia.com/wp-content/uploads/2019/06/20190710-SeguidoresInstagram.jpg
END:VEVENT
BEGIN:VEVENT
DTSTART;TZID=Europe/Madrid:20191009T080000
DTEND;TZID=Europe/Madrid:20191009T170000
DTSTAMP:20260419T181836
CREATED:20191009T145601Z
LAST-MODIFIED:20191009T145602Z
UID:7092-1570608000-1570640400@comercio.camarasandalucia.com
SUMMARY:Linares. Jornadas de sensibilización en TIC para comerciantes de Centros Comeciales Abiertos.
DESCRIPTION:31 de octubre de 13:00 - 15:00 horas \nLugar de encuentro:  \nCalle de las Tiendas\, 1\, 04003 Almería \n\n\n			\n		\n			\n			Inscripciones
URL:https://comercio.camarasandalucia.com/evento/linares-jornadas-de-sensibilizacion-en-tic-para-comerciantes-de-centros-comeciales-abiertos
LOCATION:Cámara de Comercio de Málaga\, C/ Cortina del Muelle\, 23 \,23\, Málaga\, málaga\, 29015\, España
CATEGORIES:Jornadas Centros Comerciales Abiertos
ATTACH;FMTTYPE=image/png:https://comercio.camarasandalucia.com/wp-content/uploads/2019/10/Tarjetón-Linares-e1570632893198.png
END:VEVENT
BEGIN:VEVENT
DTSTART;TZID=Europe/Madrid:20191028T160000
DTEND;TZID=Europe/Madrid:20191028T193000
DTSTAMP:20260419T181836
CREATED:20191008T111245Z
LAST-MODIFIED:20191021T112720Z
UID:6965-1572278400-1572291000@comercio.camarasandalucia.com
SUMMARY:Ayamonte. Jornadas de sensibilización en TIC para comerciantes de Centros Comeciales Abiertos.
DESCRIPTION:31 de octubre de 13:00 - 15:00 horas \nLugar de encuentro:  \nCalle de las Tiendas\, 1\, 04003 Almería \n\n\n			\n		\n			\n			Inscripciones
URL:https://comercio.camarasandalucia.com/evento/ayamonte-jornadas-de-sensibilizacion-en-tic-para-comerciantes-de-centros-comeciales-abiertos
LOCATION:Cámara de Ayamonte\, Calle Muelle de Portugal\, 35\, Ayamonte\, Huelva\, 21400\, España
CATEGORIES:Jornadas Centros Comerciales Abiertos
ATTACH;FMTTYPE=image/png:https://comercio.camarasandalucia.com/wp-content/uploads/2019/10/ayamonte.png
END:VEVENT
BEGIN:VEVENT
DTSTART;TZID=Europe/Madrid:20191105T100000
DTEND;TZID=Europe/Madrid:20191105T113000
DTSTAMP:20260419T181836
CREATED:20191018T094559Z
LAST-MODIFIED:20191106T073237Z
UID:7169-1572948000-1572953400@comercio.camarasandalucia.com
SUMMARY:El escaparate en galerías comerciales: Destaca y triunfa.
DESCRIPTION:31 de octubre de 13:00 - 15:00 horas \nLugar de encuentro:  \nCalle de las Tiendas\, 1\, 04003 Almería \n\n\n			\n		\n			\n			Inscripciones
URL:https://comercio.camarasandalucia.com/evento/el-escaparate-en-galerias-comerciales-destaca-y-triunfa
CATEGORIES:Jornadas Centros Comerciales Abiertos
ATTACH;FMTTYPE=image/jpeg:https://comercio.camarasandalucia.com/wp-content/uploads/2019/11/portada_webinar-diferido.jpg
END:VEVENT
BEGIN:VEVENT
DTSTART;TZID=Europe/Madrid:20191107T093000
DTEND;TZID=Europe/Madrid:20191107T130000
DTSTAMP:20260419T181836
CREATED:20191009T141400Z
LAST-MODIFIED:20191017T061943Z
UID:7049-1573119000-1573131600@comercio.camarasandalucia.com
SUMMARY:Córdoba. Jornadas de sensibilización en TIC para comerciantes de Centros Comeciales Abiertos.
DESCRIPTION:31 de octubre de 13:00 - 15:00 horas \nLugar de encuentro:  \nCalle de las Tiendas\, 1\, 04003 Almería \n\n\n			\n		\n			\n			Inscripciones
URL:https://comercio.camarasandalucia.com/evento/cordoba-jornadas-de-sensibilizacion-en-tic-para-comerciantes-de-centros-comeciales-abiertos
LOCATION:Cámara de Comercio de Córdoba\, Calle Pérez de Castro\, 1\, Córdoba\, Córdoba\, 14003\, España
CATEGORIES:Jornadas Centros Comerciales Abiertos
ATTACH;FMTTYPE=image/png:https://comercio.camarasandalucia.com/wp-content/uploads/2019/10/Tarjetón-Córdoba.png
END:VEVENT
BEGIN:VEVENT
DTSTART;TZID=Europe/Madrid:20191113T093000
DTEND;TZID=Europe/Madrid:20191113T130000
DTSTAMP:20260419T181836
CREATED:20191009T141927Z
LAST-MODIFIED:20191017T062055Z
UID:7057-1573637400-1573650000@comercio.camarasandalucia.com
SUMMARY:El Puerto de Santa María. Jornadas de sensibilización en TIC para comerciantes de Centros Comeciales Abiertos.
DESCRIPTION:31 de octubre de 13:00 - 15:00 horas \nLugar de encuentro:  \nCalle de las Tiendas\, 1\, 04003 Almería \n\n\n			\n		\n			\n			Inscripciones
URL:https://comercio.camarasandalucia.com/evento/cadiz-jornadas-de-sensibilizacion-en-tic-para-comerciantes-de-centros-comeciales-abiertos
LOCATION:Castillo de San Marcos\, Plaza Alfonso X el Sabio\, 3\, El Puerto de Santa María\, Cádiz\, 11500\, España
CATEGORIES:Jornadas Centros Comerciales Abiertos
ATTACH;FMTTYPE=image/png:https://comercio.camarasandalucia.com/wp-content/uploads/2019/10/Tarjetón-El-Puerto-de-Santa-María-e1570780912836.png
END:VEVENT
BEGIN:VEVENT
DTSTART;TZID=Europe/Madrid:20191113T160000
DTEND;TZID=Europe/Madrid:20191113T193000
DTSTAMP:20260419T181836
CREATED:20191009T142832Z
LAST-MODIFIED:20191017T062152Z
UID:7064-1573660800-1573673400@comercio.camarasandalucia.com
SUMMARY:Jerez. Jornadas de sensibilización en TIC para comerciantes de Centros Comeciales Abiertos.
DESCRIPTION:31 de octubre de 13:00 - 15:00 horas \nLugar de encuentro:  \nCalle de las Tiendas\, 1\, 04003 Almería \n\n\n			\n		\n			\n			Inscripciones
URL:https://comercio.camarasandalucia.com/evento/jerez-jornadas-de-sensibilizacion-en-tic-para-comerciantes-de-centros-comeciales-abiertos
LOCATION:Oficina Técnica Centro Comercial Abierto Jerez\, Calle Larga\, 39\, Jerez de la Frontera\, 11402\, España
CATEGORIES:Jornadas Centros Comerciales Abiertos
ATTACH;FMTTYPE=image/png:https://comercio.camarasandalucia.com/wp-content/uploads/2019/10/Tarjetón-Jerez.png
END:VEVENT
BEGIN:VEVENT
DTSTART;TZID=Europe/Madrid:20191114T160000
DTEND;TZID=Europe/Madrid:20191114T173000
DTSTAMP:20260419T181836
CREATED:20191009T144616Z
LAST-MODIFIED:20191114T132020Z
UID:7085-1573747200-1573752600@comercio.camarasandalucia.com
SUMMARY:Málaga. Jornadas de sensibilización en TIC para comerciantes de Centros Comeciales Abiertos.
DESCRIPTION:31 de octubre de 13:00 - 15:00 horas \nLugar de encuentro:  \nCalle de las Tiendas\, 1\, 04003 Almería \n\n\n			\n		\n			\n			Inscripciones
URL:https://comercio.camarasandalucia.com/evento/malaga-jornadas-de-sensibilizacion-en-tic-para-comerciantes-de-centros-comeciales-abiertos
CATEGORIES:Jornadas Centros Comerciales Abiertos
ATTACH;FMTTYPE=image/png:https://comercio.camarasandalucia.com/wp-content/uploads/2019/10/Tarjetón-Málaga-e1570632352675.png
END:VEVENT
BEGIN:VEVENT
DTSTART;TZID=Europe/Madrid:20191115T093000
DTEND;TZID=Europe/Madrid:20191115T110000
DTSTAMP:20260419T181836
CREATED:20191010T081616Z
LAST-MODIFIED:20191114T131956Z
UID:7102-1573810200-1573815600@comercio.camarasandalucia.com
SUMMARY:Linares. Jornadas de sensibilización en TIC para comerciantes de Centros Comeciales Abiertos.
DESCRIPTION:31 de octubre de 13:00 - 15:00 horas \nLugar de encuentro:  \nCalle de las Tiendas\, 1\, 04003 Almería \n\n\n			\n		\n			\n			Inscripciones
URL:https://comercio.camarasandalucia.com/evento/linares-jornadas-de-sensibilizacion-en-tic-para-comerciantes-de-centros-comeciales-abiertos-2
LOCATION:Incubadora de Empresas\, Campus Científico-Tecnológico Circunvalación Ronda Sur\, Linares\, Jaén\, 23700\, España
CATEGORIES:Jornadas Centros Comerciales Abiertos
ATTACH;FMTTYPE=image/png:https://comercio.camarasandalucia.com/wp-content/uploads/2019/10/Tarjetón-Linares-e1570632893198.png
END:VEVENT
END:VCALENDAR