BEGIN:VCALENDAR
VERSION:2.0
PRODID:-//Portal de Comercio - ECPv6.11.2.1//NONSGML v1.0//EN
CALSCALE:GREGORIAN
METHOD:PUBLISH
X-ORIGINAL-URL:https://comercio.camarasandalucia.com
X-WR-CALDESC:Eventos para Portal de Comercio
REFRESH-INTERVAL;VALUE=DURATION:PT1H
X-Robots-Tag:noindex
X-PUBLISHED-TTL:PT1H
BEGIN:VTIMEZONE
TZID:Europe/Madrid
BEGIN:DAYLIGHT
TZOFFSETFROM:+0100
TZOFFSETTO:+0200
TZNAME:CEST
DTSTART:20230326T010000
END:DAYLIGHT
BEGIN:STANDARD
TZOFFSETFROM:+0200
TZOFFSETTO:+0100
TZNAME:CET
DTSTART:20231029T010000
END:STANDARD
END:VTIMEZONE
BEGIN:VEVENT
DTSTART;TZID=Europe/Madrid:20230523T100000
DTEND;TZID=Europe/Madrid:20230523T113000
DTSTAMP:20260424T194958
CREATED:20230517T085216Z
LAST-MODIFIED:20231006T111304Z
UID:10901-1684836000-1684841400@comercio.camarasandalucia.com
SUMMARY:Taller Online: "Influencers marketing. La última tendencia para tu empresa"
DESCRIPTION:31 de octubre de 13:00 - 15:00 horas \nLugar de encuentro:  \nCalle de las Tiendas\, 1\, 04003 Almería \n\n\n			\n		\n			\n			Inscripciones
URL:https://comercio.camarasandalucia.com/evento/taller-online-influencers-marketing-la-ultima-tendencia-para-tu-empresa
CATEGORIES:Convocatoria 2023,Talleres online
ATTACH;FMTTYPE=image/jpeg:https://comercio.camarasandalucia.com/wp-content/uploads/2023/05/20230523-taller.jpg
END:VEVENT
END:VCALENDAR