BEGIN:VCALENDAR
VERSION:2.0
PRODID:-//Portal de Comercio - ECPv6.11.2.1//NONSGML v1.0//EN
CALSCALE:GREGORIAN
METHOD:PUBLISH
X-ORIGINAL-URL:https://comercio.camarasandalucia.com
X-WR-CALDESC:Eventos para Portal de Comercio
REFRESH-INTERVAL;VALUE=DURATION:PT1H
X-Robots-Tag:noindex
X-PUBLISHED-TTL:PT1H
BEGIN:VTIMEZONE
TZID:Europe/Madrid
BEGIN:DAYLIGHT
TZOFFSETFROM:+0100
TZOFFSETTO:+0200
TZNAME:CEST
DTSTART:20180325T010000
END:DAYLIGHT
BEGIN:STANDARD
TZOFFSETFROM:+0200
TZOFFSETTO:+0100
TZNAME:CET
DTSTART:20181028T010000
END:STANDARD
END:VTIMEZONE
BEGIN:VEVENT
DTSTART;TZID=Europe/Madrid:20181025T100000
DTEND;TZID=Europe/Madrid:20181025T140000
DTSTAMP:20260419T150341
CREATED:20181008T112751Z
LAST-MODIFIED:20231009T141337Z
UID:5030-1540461600-1540476000@comercio.camarasandalucia.com
SUMMARY:VISUAL RETAIL TOUR\, Almería. Talleres prácticos de escaparatismo\, ¿Cómo atrapar clientes a través de tu escaparate?
DESCRIPTION:31 de octubre de 13:00 - 15:00 horas \nLugar de encuentro:  \nCalle de las Tiendas\, 1\, 04003 Almería \n\n\n			\n		\n			\n			Inscripciones
URL:https://comercio.camarasandalucia.com/evento/visual-retail-tour-almeria-talleres-practicos-de-escaparatismo-como-atrapar-clientes-a-traves-de-tu-escaparate
LOCATION:Paseo de Almería\, Paseo de Almería\, 1\, Almería\, Almería\, 04001\, España
CATEGORIES:Visual Retails,Vr Convocatoria 2018
ATTACH;FMTTYPE=image/jpeg:https://comercio.camarasandalucia.com/wp-content/uploads/2018/10/almeria_800v2.jpg
END:VEVENT
BEGIN:VEVENT
DTSTART;TZID=Europe/Madrid:20181025T160000
DTEND;TZID=Europe/Madrid:20181025T200000
DTSTAMP:20260419T150341
CREATED:20181015T090557Z
LAST-MODIFIED:20231009T141328Z
UID:5115-1540483200-1540497600@comercio.camarasandalucia.com
SUMMARY:VISUAL RETAIL TOUR\, Motril. Talleres prácticos de escaparatismo\, ¿Cómo atrapar clientes a través de tu escaparate?
DESCRIPTION:31 de octubre de 13:00 - 15:00 horas \nLugar de encuentro:  \nCalle de las Tiendas\, 1\, 04003 Almería \n\n\n			\n		\n			\n			Inscripciones
URL:https://comercio.camarasandalucia.com/evento/visual-retail-tour-motril-talleres-practicos-de-escaparatismo-como-atrapar-clientes-a-traves-de-tu-escaparate-2
LOCATION:Punto de encuentro Visual Motril\, Calle Catalanes\, 4\, Motril\, Granada\, 18600\, España
CATEGORIES:Visual Retails,Vr Convocatoria 2018
ATTACH;FMTTYPE=image/jpeg:https://comercio.camarasandalucia.com/wp-content/uploads/2018/10/6Motril.jpg
END:VEVENT
END:VCALENDAR