BEGIN:VCALENDAR
VERSION:2.0
PRODID:-//Portal de Comercio - ECPv6.11.2.1//NONSGML v1.0//EN
CALSCALE:GREGORIAN
METHOD:PUBLISH
X-WR-CALNAME:Portal de Comercio
X-ORIGINAL-URL:https://comercio.camarasandalucia.com
X-WR-CALDESC:Eventos para Portal de Comercio
REFRESH-INTERVAL;VALUE=DURATION:PT1H
X-Robots-Tag:noindex
X-PUBLISHED-TTL:PT1H
BEGIN:VTIMEZONE
TZID:Europe/Madrid
BEGIN:DAYLIGHT
TZOFFSETFROM:+0100
TZOFFSETTO:+0200
TZNAME:CEST
DTSTART:20180325T010000
END:DAYLIGHT
BEGIN:STANDARD
TZOFFSETFROM:+0200
TZOFFSETTO:+0100
TZNAME:CET
DTSTART:20181028T010000
END:STANDARD
END:VTIMEZONE
BEGIN:VEVENT
DTSTART;TZID=Europe/Madrid:20181017T160000
DTEND;TZID=Europe/Madrid:20181019T210000
DTSTAMP:20260421T151601
CREATED:20181003T135805Z
LAST-MODIFIED:20181029T145920Z
UID:4980-1539792000-1539982800@comercio.camarasandalucia.com
SUMMARY:Granada\, Ciclo Formativo Programa de Apoyo al Comercio Ambulante en Andalucía
DESCRIPTION:31 de octubre de 13:00 - 15:00 horas \nLugar de encuentro:  \nCalle de las Tiendas\, 1\, 04003 Almería \n\n\n			\n		\n			\n			Inscripciones
URL:https://comercio.camarasandalucia.com/evento/granada-ciclo-formativo-programa-de-apoyo-al-comercio-ambulante-en-andalucia
LOCATION:Cámara de Comercio de Granada\, CalleCalle Luis Amador\, 26\, Granada\, Granada\, 18014\, España
CATEGORIES:Formación presencial Comercio Ambulante
ATTACH;FMTTYPE=image/jpeg:https://comercio.camarasandalucia.com/wp-content/uploads/2018/10/anuncio_Accion_Formativa_WORPRESS_GR.jpg
END:VEVENT
BEGIN:VEVENT
DTSTART;TZID=Europe/Madrid:20181018T090000
DTEND;TZID=Europe/Madrid:20181018T180000
DTSTAMP:20260421T151601
CREATED:20180928T091222Z
LAST-MODIFIED:20180928T092349Z
UID:4870-1539853200-1539885600@comercio.camarasandalucia.com
SUMMARY:Congreso Andaluz de Comercio Interior
DESCRIPTION:31 de octubre de 13:00 - 15:00 horas \nLugar de encuentro:  \nCalle de las Tiendas\, 1\, 04003 Almería \n\n\n			\n		\n			\n			Inscripciones
URL:https://comercio.camarasandalucia.com/evento/congreso-andaluz-de-comercio-interior
LOCATION:Congreso Comercio Interior\, Paseo Alcalde Marqués de Contadero\, s/n\, Sevilla\, Sevilla\, 41001\, España
ATTACH;FMTTYPE=image/jpeg:https://comercio.camarasandalucia.com/wp-content/uploads/2018/09/comercio_interior_congreso.jpg
END:VEVENT
BEGIN:VEVENT
DTSTART;TZID=Europe/Madrid:20181018T100000
DTEND;TZID=Europe/Madrid:20181018T110000
DTSTAMP:20260421T151601
CREATED:20181005T100832Z
LAST-MODIFIED:20181023T070410Z
UID:5007-1539856800-1539860400@comercio.camarasandalucia.com
SUMMARY:Taller Online\, ¿Qué necesita saber  de ciberseguridad  el comercio minorista?
DESCRIPTION:31 de octubre de 13:00 - 15:00 horas \nLugar de encuentro:  \nCalle de las Tiendas\, 1\, 04003 Almería \n\n\n			\n		\n			\n			Inscripciones
URL:https://comercio.camarasandalucia.com/evento/taller-online-que-necesita-saber-de-ciberseguridad-el-comercio-minorista
CATEGORIES:Talleres online
ATTACH;FMTTYPE=image/jpeg:https://comercio.camarasandalucia.com/wp-content/uploads/2018/10/20181018_Ciberseguridad.jpg
END:VEVENT
END:VCALENDAR